BEGIN:VCALENDAR
VERSION:2.0
PRODID:-//Club Vosgien Thann - ECPv6.0.9//NONSGML v1.0//EN
CALSCALE:GREGORIAN
METHOD:PUBLISH
X-WR-CALNAME:Club Vosgien Thann
X-ORIGINAL-URL:https://clubvosgienthann.fr
X-WR-CALDESC:évènements pour Club Vosgien Thann
REFRESH-INTERVAL;VALUE=DURATION:PT1H
X-Robots-Tag:noindex
X-PUBLISHED-TTL:PT1H
BEGIN:VTIMEZONE
TZID:Europe/Paris
BEGIN:DAYLIGHT
TZOFFSETFROM:+0100
TZOFFSETTO:+0200
TZNAME:CEST
DTSTART:20250330T010000
END:DAYLIGHT
BEGIN:STANDARD
TZOFFSETFROM:+0200
TZOFFSETTO:+0100
TZNAME:CET
DTSTART:20251026T010000
END:STANDARD
BEGIN:DAYLIGHT
TZOFFSETFROM:+0100
TZOFFSETTO:+0200
TZNAME:CEST
DTSTART:20260329T010000
END:DAYLIGHT
BEGIN:STANDARD
TZOFFSETFROM:+0200
TZOFFSETTO:+0100
TZNAME:CET
DTSTART:20261025T010000
END:STANDARD
END:VTIMEZONE
BEGIN:VEVENT
DTSTART;TZID=Europe/Paris:20250919T080000
DTEND;TZID=Europe/Paris:20261002T170000
DTSTAMP:20260424T135543
CREATED:20241219T160835Z
LAST-MODIFIED:20241219T175501Z
UID:7643-1758268800-1790960400@clubvosgienthann.fr
SUMMARY:19.09 au 02.10.2025 Séjour à l'île de LA REUNION. Responsable Bernard FRITSCH
DESCRIPTION:
URL:https://clubvosgienthann.fr/event/19-09-au-02-10sejour-a-lile-de-la-reunion-responsable-bernard-fritsch/
END:VEVENT
END:VCALENDAR